BEGIN:VCALENDAR
VERSION:2.0
PRODID:-//Espiche Golf - ECPv6.15.20//NONSGML v1.0//EN
CALSCALE:GREGORIAN
METHOD:PUBLISH
X-WR-CALNAME:Espiche Golf
X-ORIGINAL-URL:https://www.espichegolf.pt/pt-pt/
X-WR-CALDESC:Eventos para Espiche Golf
REFRESH-INTERVAL;VALUE=DURATION:PT1H
X-Robots-Tag:noindex
X-PUBLISHED-TTL:PT1H
BEGIN:VTIMEZONE
TZID:UTC
BEGIN:STANDARD
TZOFFSETFROM:+0000
TZOFFSETTO:+0000
TZNAME:UTC
DTSTART:20240101T000000
END:STANDARD
END:VTIMEZONE
BEGIN:VEVENT
DTSTART;VALUE=DATE:20250227
DTEND;VALUE=DATE:20250228
DTSTAMP:20260422T075720
CREATED:20241115T114836Z
LAST-MODIFIED:20241115T114836Z
UID:19542-1740614400-1740700799@www.espichegolf.pt
SUMMARY:Mr. Captains 50 Shades of Blue Mens Charity Golf Day
DESCRIPTION:
URL:https://www.espichegolf.pt/pt-pt/event/mr-captains-50-shades-of-blue-mens-charity-golf-day/
LOCATION:Espiche Golf\, Lagos\, Portugal
ATTACH;FMTTYPE=image/jpeg:https://www.espichegolf.pt/wp-content/uploads/2024/11/Untitled-1.jpg
ORGANIZER;CN="Espiche Golf":MAILTO:reception@espichegolf.pt
END:VEVENT
END:VCALENDAR