BEGIN:VCALENDAR
VERSION:2.0
PRODID:-//Espiche Golf - ECPv6.15.20//NONSGML v1.0//EN
CALSCALE:GREGORIAN
METHOD:PUBLISH
X-ORIGINAL-URL:https://www.espichegolf.pt/pt-pt/
X-WR-CALDESC:Eventos para Espiche Golf
REFRESH-INTERVAL;VALUE=DURATION:PT1H
X-Robots-Tag:noindex
X-PUBLISHED-TTL:PT1H
BEGIN:VTIMEZONE
TZID:UTC
BEGIN:STANDARD
TZOFFSETFROM:+0000
TZOFFSETTO:+0000
TZNAME:UTC
DTSTART:20240101T000000
END:STANDARD
END:VTIMEZONE
BEGIN:VEVENT
DTSTART;VALUE=DATE:20250904
DTEND;VALUE=DATE:20250905
DTSTAMP:20260419T223936
CREATED:20250526T102455Z
LAST-MODIFIED:20251028T103934Z
UID:23764-1756944000-1757030399@www.espichegolf.pt
SUMMARY:Single Stableford (Q) Draw
DESCRIPTION:Format: Singles \nTees: R/W/Y \nTee Times: 07h51-08h36
URL:https://www.espichegolf.pt/pt-pt/event/paarls-pairs-2-5-3-2-3-3-2-2-4-2-4-2-2-2-2-3-3/
LOCATION:Espiche Golf\, Lagos\, Portugal
CATEGORIES:Competições do Clube
ATTACH;FMTTYPE=image/jpeg:https://www.espichegolf.pt/wp-content/uploads/2025/03/Fixtures-Icon-Website.jpg
ORGANIZER;CN="Espiche Golf":MAILTO:reception@espichegolf.pt
END:VEVENT
BEGIN:VEVENT
DTSTART;VALUE=DATE:20250906
DTEND;VALUE=DATE:20250907
DTSTAMP:20260419T223936
CREATED:20250526T113107Z
LAST-MODIFIED:20250526T113107Z
UID:23769-1757116800-1757203199@www.espichegolf.pt
SUMMARY:Medal hdcp index order – Q
DESCRIPTION:Format: Singles \nTees: R/W/Y \nTee Times: 07h51-09h39
URL:https://www.espichegolf.pt/pt-pt/event/paarls-pairs-2-5-4-2-2-2-3/
LOCATION:Espiche Golf\, Lagos\, Portugal
CATEGORIES:Competições do Clube
ATTACH;FMTTYPE=image/jpeg:https://www.espichegolf.pt/wp-content/uploads/2025/03/Fixtures-Icon-Website.jpg
END:VEVENT
BEGIN:VEVENT
DTSTART;VALUE=DATE:20250909
DTEND;VALUE=DATE:20250910
DTSTAMP:20260419T223936
CREATED:20250526T113306Z
LAST-MODIFIED:20250526T113306Z
UID:23772-1757376000-1757462399@www.espichegolf.pt
SUMMARY:Double Joker (team of 4) Draw
DESCRIPTION:Format: Team\nTees: R/Y\nTee Times: 07h51-09h39
URL:https://www.espichegolf.pt/pt-pt/event/paarls-pairs-3-3/
LOCATION:Espiche Golf\, Lagos\, Portugal
CATEGORIES:Competições do Clube
ATTACH;FMTTYPE=image/jpeg:https://www.espichegolf.pt/wp-content/uploads/2025/03/Fixtures-Icon-Website.jpg
END:VEVENT
BEGIN:VEVENT
DTSTART;VALUE=DATE:20250911
DTEND;VALUE=DATE:20250912
DTSTAMP:20260419T223936
CREATED:20250526T113755Z
LAST-MODIFIED:20250526T113755Z
UID:23776-1757548800-1757635199@www.espichegolf.pt
SUMMARY:Singles Stableford Draw
DESCRIPTION:Format: Singles \nTees: R/W/Y \nTee Times: 07h51-08h36
URL:https://www.espichegolf.pt/pt-pt/event/paarls-pairs-2-5-3-2-3-3-2-2-4-2-4-2-2-2-3/
LOCATION:Espiche Golf\, Lagos\, Portugal
CATEGORIES:Competições do Clube
ATTACH;FMTTYPE=image/jpeg:https://www.espichegolf.pt/wp-content/uploads/2025/03/Fixtures-Icon-Website.jpg
END:VEVENT
BEGIN:VEVENT
DTSTART;VALUE=DATE:20250913
DTEND;VALUE=DATE:20250914
DTSTAMP:20260419T223936
CREATED:20250526T114336Z
LAST-MODIFIED:20250526T114336Z
UID:23779-1757721600-1757807999@www.espichegolf.pt
SUMMARY:Paarls Pairs
DESCRIPTION:Format: Pairs\nTees: R/Y\nTee Times: 07h51-09h39
URL:https://www.espichegolf.pt/pt-pt/event/paarls-pairs-6/
LOCATION:Espiche Golf\, Lagos\, Portugal
CATEGORIES:Competições do Clube
ATTACH;FMTTYPE=image/jpeg:https://www.espichegolf.pt/wp-content/uploads/2025/03/Fixtures-Icon-Website.jpg
END:VEVENT
BEGIN:VEVENT
DTSTART;VALUE=DATE:20250916
DTEND;VALUE=DATE:20250917
DTSTAMP:20260419T223936
CREATED:20250805T131225Z
LAST-MODIFIED:20250805T131225Z
UID:27289-1757980800-1758067199@www.espichegolf.pt
SUMMARY:Captain's Day (M)
DESCRIPTION:  \n 
URL:https://www.espichegolf.pt/pt-pt/event/captains-day/
LOCATION:Espiche Golf\, Lagos\, Portugal
CATEGORIES:Competições do Clube,Eventos de Golf
ATTACH;FMTTYPE=image/jpeg:https://www.espichegolf.pt/wp-content/uploads/2025/03/Fixtures-Icon-Website.jpg
ORGANIZER;CN="Espiche Golf":MAILTO:reception@espichegolf.pt
END:VEVENT
END:VCALENDAR