BEGIN:VCALENDAR
VERSION:2.0
PRODID:-//Espiche Golf - ECPv6.15.20//NONSGML v1.0//EN
CALSCALE:GREGORIAN
METHOD:PUBLISH
X-WR-CALNAME:Espiche Golf
X-ORIGINAL-URL:https://www.espichegolf.pt/pt-pt/
X-WR-CALDESC:Eventos para Espiche Golf
REFRESH-INTERVAL;VALUE=DURATION:PT1H
X-Robots-Tag:noindex
X-PUBLISHED-TTL:PT1H
BEGIN:VTIMEZONE
TZID:UTC
BEGIN:STANDARD
TZOFFSETFROM:+0000
TZOFFSETTO:+0000
TZNAME:UTC
DTSTART:20240101T000000
END:STANDARD
END:VTIMEZONE
BEGIN:VEVENT
DTSTART;VALUE=DATE:20250802
DTEND;VALUE=DATE:20250803
DTSTAMP:20260420T001127
CREATED:20250519T141011Z
LAST-MODIFIED:20250519T141011Z
UID:23516-1754092800-1754179199@www.espichegolf.pt
SUMMARY:Captain vs vice-captain match play
DESCRIPTION:Format: Pairs\nTees: R/Y\nTee Times: 07h51-09h39
URL:https://www.espichegolf.pt/pt-pt/event/paarls-pairs-5-4-2-3-2/
LOCATION:Espiche Golf\, Lagos\, Portugal
CATEGORIES:Competições do Clube
ATTACH;FMTTYPE=image/jpeg:https://www.espichegolf.pt/wp-content/uploads/2025/03/Fixtures-Icon-Website.jpg
END:VEVENT
BEGIN:VEVENT
DTSTART;VALUE=DATE:20250805
DTEND;VALUE=DATE:20250806
DTSTAMP:20260420T001127
CREATED:20250519T141610Z
LAST-MODIFIED:20250519T141610Z
UID:23520-1754352000-1754438399@www.espichegolf.pt
SUMMARY:Odds and Evens (Team of 4)
DESCRIPTION:Format: Team \nTees: R/Y \nTee Times: 07h51-09h39
URL:https://www.espichegolf.pt/pt-pt/event/paarls-pairs-2-5-3-2-3-3-2-2-4-2-3-2-2-2-2/
LOCATION:Espiche Golf\, Lagos\, Portugal
CATEGORIES:Competições do Clube
ATTACH;FMTTYPE=image/jpeg:https://www.espichegolf.pt/wp-content/uploads/2025/03/Fixtures-Icon-Website.jpg
END:VEVENT
BEGIN:VEVENT
DTSTART;VALUE=DATE:20250807
DTEND;VALUE=DATE:20250808
DTSTAMP:20260420T001127
CREATED:20250519T142534Z
LAST-MODIFIED:20250520T071244Z
UID:23526-1754524800-1754611199@www.espichegolf.pt
SUMMARY:Single Stableford (Q) Draw
DESCRIPTION:Format: Singles \nTees: R/W/Y \nTee Times: 07h51-08h27
URL:https://www.espichegolf.pt/pt-pt/event/paarls-pairs-2-5-3-2-3-3-2-2-4-2-4-2-2-2-2/
LOCATION:Espiche Golf\, Lagos\, Portugal
CATEGORIES:Competições do Clube
ATTACH;FMTTYPE=image/jpeg:https://www.espichegolf.pt/wp-content/uploads/2025/03/Fixtures-Icon-Website.jpg
END:VEVENT
BEGIN:VEVENT
DTSTART;VALUE=DATE:20250809
DTEND;VALUE=DATE:20250810
DTSTAMP:20260420T001127
CREATED:20250519T144101Z
LAST-MODIFIED:20250519T144101Z
UID:23530-1754697600-1754783999@www.espichegolf.pt
SUMMARY:Order of Merit Q Draw
DESCRIPTION:Format: Singles \nTees: R/Y \nTee Times: 07h51-09h39
URL:https://www.espichegolf.pt/pt-pt/event/paarls-pairs-2-5-3-2-3-5-2-2-2/
LOCATION:Espiche Golf\, Lagos\, Portugal
CATEGORIES:Competições do Clube
ATTACH;FMTTYPE=image/jpeg:https://www.espichegolf.pt/wp-content/uploads/2025/03/Fixtures-Icon-Website.jpg
END:VEVENT
BEGIN:VEVENT
DTSTART;VALUE=DATE:20250812
DTEND;VALUE=DATE:20250813
DTSTAMP:20260420T001127
CREATED:20250519T152129Z
LAST-MODIFIED:20250625T143138Z
UID:23534-1754956800-1755043199@www.espichegolf.pt
SUMMARY:Summer Cup (M)
DESCRIPTION:Tees: R/Y \nTee Times: 07h51
URL:https://www.espichegolf.pt/pt-pt/event/paarls-pairs-2-5-3-2-3-3-2-2-4-2-3-2-3/
LOCATION:Espiche Golf\, Lagos\, Portugal
CATEGORIES:Competições do Clube
ATTACH;FMTTYPE=image/jpeg:https://www.espichegolf.pt/wp-content/uploads/2025/03/Fixtures-Icon-Website.jpg
END:VEVENT
BEGIN:VEVENT
DTSTART;VALUE=DATE:20250812
DTEND;VALUE=DATE:20250813
DTSTAMP:20260420T001127
CREATED:20250520T071501Z
LAST-MODIFIED:20250520T071501Z
UID:23552-1754956800-1755043199@www.espichegolf.pt
SUMMARY:Summer Cup (M)
DESCRIPTION:
URL:https://www.espichegolf.pt/pt-pt/event/paarls-pairs-2-4-2/
LOCATION:Espiche Golf\, Lagos\, Portugal
CATEGORIES:Competições do Clube
ATTACH;FMTTYPE=image/jpeg:https://www.espichegolf.pt/wp-content/uploads/2025/03/Fixtures-Icon-Website.jpg
END:VEVENT
BEGIN:VEVENT
DTSTART;VALUE=DATE:20250814
DTEND;VALUE=DATE:20250815
DTSTAMP:20260420T001127
CREATED:20250519T152405Z
LAST-MODIFIED:20250519T152405Z
UID:23538-1755129600-1755215999@www.espichegolf.pt
SUMMARY:Singles Stableford Draw
DESCRIPTION:Format: Singles \nTees: R/W/Y \nTee Times: 07h51-08h27
URL:https://www.espichegolf.pt/pt-pt/event/paarls-pairs-2-5-3-2-3-3-2-2-4-2-4-2-2-2-2-2/
LOCATION:Espiche Golf\, Lagos\, Portugal
CATEGORIES:Competições do Clube
ATTACH;FMTTYPE=image/jpeg:https://www.espichegolf.pt/wp-content/uploads/2025/03/Fixtures-Icon-Website.jpg
END:VEVENT
BEGIN:VEVENT
DTSTART;VALUE=DATE:20250816
DTEND;VALUE=DATE:20250817
DTSTAMP:20260420T001127
CREATED:20250520T071653Z
LAST-MODIFIED:20250520T071653Z
UID:23555-1755302400-1755388799@www.espichegolf.pt
SUMMARY:High road and low road ( Pairs)
DESCRIPTION:Format: Pairs\nTees: R/Y\nTee Times: 07h51-09h39
URL:https://www.espichegolf.pt/pt-pt/event/paarls-pairs-5-4-2-3-3/
LOCATION:Espiche Golf\, Lagos\, Portugal
CATEGORIES:Competições do Clube
ATTACH;FMTTYPE=image/jpeg:https://www.espichegolf.pt/wp-content/uploads/2025/03/Fixtures-Icon-Website.jpg
END:VEVENT
BEGIN:VEVENT
DTSTART;VALUE=DATE:20250819
DTEND;VALUE=DATE:20250820
DTSTAMP:20260420T001127
CREATED:20250520T071826Z
LAST-MODIFIED:20250520T071826Z
UID:23558-1755561600-1755647999@www.espichegolf.pt
SUMMARY:Medal hdcp index order – Q
DESCRIPTION:Format: Singles \nTees: R/W/Y \nTee Times: 07h51-09h39
URL:https://www.espichegolf.pt/pt-pt/event/paarls-pairs-2-5-4-2-2-2-2/
LOCATION:Espiche Golf\, Lagos\, Portugal
CATEGORIES:Competições do Clube
ATTACH;FMTTYPE=image/jpeg:https://www.espichegolf.pt/wp-content/uploads/2025/03/Fixtures-Icon-Website.jpg
END:VEVENT
BEGIN:VEVENT
DTSTART;VALUE=DATE:20250821
DTEND;VALUE=DATE:20250822
DTSTAMP:20260420T001127
CREATED:20250520T072239Z
LAST-MODIFIED:20250520T104600Z
UID:23561-1755734400-1755820799@www.espichegolf.pt
SUMMARY:Singles Stableford Draw
DESCRIPTION:Format: Singles \nTees: R/W/Y \nTee Times: 07h51-08h27
URL:https://www.espichegolf.pt/pt-pt/event/paarls-pairs-2-5-3-2-3-3-2-2-2-2/
LOCATION:Espiche Golf\, Lagos\, Portugal
CATEGORIES:Competições do Clube
ATTACH;FMTTYPE=image/jpeg:https://www.espichegolf.pt/wp-content/uploads/2025/03/Fixtures-Icon-Website.jpg
END:VEVENT
BEGIN:VEVENT
DTSTART;VALUE=DATE:20250823
DTEND;VALUE=DATE:20250824
DTSTAMP:20260420T001127
CREATED:20250520T103357Z
LAST-MODIFIED:20250520T103625Z
UID:23565-1755907200-1755993599@www.espichegolf.pt
SUMMARY:Texas Scramble with a twist - Draw
DESCRIPTION:Format: Team\nTees: R/Y\nTee Times: 07h51-09h39
URL:https://www.espichegolf.pt/pt-pt/event/paarls-pairs-4-2-2/
LOCATION:Espiche Golf\, Lagos\, Portugal
CATEGORIES:Competições do Clube
ATTACH;FMTTYPE=image/jpeg:https://www.espichegolf.pt/wp-content/uploads/2025/01/Fixtures-Icon-Website-1.jpg
END:VEVENT
BEGIN:VEVENT
DTSTART;VALUE=DATE:20250826
DTEND;VALUE=DATE:20250827
DTSTAMP:20260420T001127
CREATED:20250520T104132Z
LAST-MODIFIED:20250520T104512Z
UID:23571-1756166400-1756252799@www.espichegolf.pt
SUMMARY:Single Stableford (Q) Draw
DESCRIPTION:Format: Singles \nTees: R/W/Y \nTee Times: 07h51-09h39
URL:https://www.espichegolf.pt/pt-pt/event/paarls-pairs-2-5-3-2-3-3-2-2-4-2-4-2-2-2-2-3/
LOCATION:Espiche Golf\, Lagos\, Portugal
CATEGORIES:Competições do Clube
ATTACH;FMTTYPE=image/jpeg:https://www.espichegolf.pt/wp-content/uploads/2025/03/Fixtures-Icon-Website.jpg
END:VEVENT
BEGIN:VEVENT
DTSTART;VALUE=DATE:20250828
DTEND;VALUE=DATE:20250829
DTSTAMP:20260420T001127
CREATED:20250520T104323Z
LAST-MODIFIED:20250520T104323Z
UID:23574-1756339200-1756425599@www.espichegolf.pt
SUMMARY:Single Stableford Draw
DESCRIPTION:Format: Singles \nTees: R/W/Y \nTee Times: 07h51-08h27
URL:https://www.espichegolf.pt/pt-pt/event/paarls-pairs-2-5-3-2-3-3-2-2-4-2-4-2-2-2-2-3-2/
LOCATION:Espiche Golf\, Lagos\, Portugal
CATEGORIES:Competições do Clube
ATTACH;FMTTYPE=image/jpeg:https://www.espichegolf.pt/wp-content/uploads/2025/03/Fixtures-Icon-Website.jpg
END:VEVENT
BEGIN:VEVENT
DTSTART;VALUE=DATE:20250830
DTEND;VALUE=DATE:20250831
DTSTAMP:20260420T001127
CREATED:20250526T094726Z
LAST-MODIFIED:20250526T095600Z
UID:23754-1756512000-1756598399@www.espichegolf.pt
SUMMARY:Pairs Better Ball
DESCRIPTION:Format: Pairs\nTees: R/Y\nTee Times: 07h51-09h39
URL:https://www.espichegolf.pt/pt-pt/event/paarls-pairs-5-4-4/
LOCATION:Espiche Golf\, Lagos\, Portugal
CATEGORIES:Competições do Clube
ATTACH;FMTTYPE=image/jpeg:https://www.espichegolf.pt/wp-content/uploads/2025/03/Fixtures-Icon-Website.jpg
END:VEVENT
END:VCALENDAR