BEGIN:VCALENDAR
VERSION:2.0
PRODID:-//Espiche Golf - ECPv6.15.20//NONSGML v1.0//EN
CALSCALE:GREGORIAN
METHOD:PUBLISH
X-WR-CALNAME:Espiche Golf
X-ORIGINAL-URL:https://www.espichegolf.pt/pt-pt/
X-WR-CALDESC:Eventos para Espiche Golf
REFRESH-INTERVAL;VALUE=DURATION:PT1H
X-Robots-Tag:noindex
X-PUBLISHED-TTL:PT1H
BEGIN:VTIMEZONE
TZID:UTC
BEGIN:STANDARD
TZOFFSETFROM:+0000
TZOFFSETTO:+0000
TZNAME:UTC
DTSTART:20240101T000000
END:STANDARD
END:VTIMEZONE
BEGIN:VEVENT
DTSTART;VALUE=DATE:20250501
DTEND;VALUE=DATE:20250502
DTSTAMP:20260420T051112
CREATED:20250403T115805Z
LAST-MODIFIED:20250514T093816Z
UID:22334-1746057600-1746143999@www.espichegolf.pt
SUMMARY:Singles Stableford (Q) Draw
DESCRIPTION:Format: Singles \nTees: R/W/Y \nTee Times: 07h51-08h36
URL:https://www.espichegolf.pt/pt-pt/event/paarls-pairs-2-5-4/
LOCATION:Espiche Golf\, Lagos\, Portugal
CATEGORIES:Competições do Clube
ATTACH;FMTTYPE=image/jpeg:https://www.espichegolf.pt/wp-content/uploads/2025/03/Fixtures-Icon-Website.jpg
END:VEVENT
BEGIN:VEVENT
DTSTART;VALUE=DATE:20250503
DTEND;VALUE=DATE:20250504
DTSTAMP:20260420T051112
CREATED:20250403T120212Z
LAST-MODIFIED:20250403T120251Z
UID:22337-1746230400-1746316799@www.espichegolf.pt
SUMMARY:Texas Scramble Medal scoring (team of 2)
DESCRIPTION:Format: Pairs\nTees: R/Y\nTee Times: 07h51-09h39
URL:https://www.espichegolf.pt/pt-pt/event/paarls-pairs-4-2/
LOCATION:Espiche Golf\, Lagos\, Portugal
CATEGORIES:Competições do Clube
ATTACH;FMTTYPE=image/jpeg:https://www.espichegolf.pt/wp-content/uploads/2025/01/Fixtures-Icon-Website-1.jpg
ORGANIZER;CN="Espiche Golf":MAILTO:reception@espichegolf.pt
END:VEVENT
BEGIN:VEVENT
DTSTART;VALUE=DATE:20250506
DTEND;VALUE=DATE:20250507
DTSTAMP:20260420T051113
CREATED:20250403T134136Z
LAST-MODIFIED:20250403T134136Z
UID:22348-1746489600-1746575999@www.espichegolf.pt
SUMMARY:Singles Stableford Q
DESCRIPTION:Format: Singles\nTees: R/Y/W\nTee Times: 07h51-09h39
URL:https://www.espichegolf.pt/pt-pt/event/paarls-pairs-5-2/
LOCATION:Espiche Golf\, Lagos\, Portugal
CATEGORIES:Competições do Clube
ATTACH;FMTTYPE=image/jpeg:https://www.espichegolf.pt/wp-content/uploads/2025/03/Fixtures-Icon-Website.jpg
ORGANIZER;CN="Espiche Golf":MAILTO:reception@espichegolf.pt
END:VEVENT
BEGIN:VEVENT
DTSTART;VALUE=DATE:20250508
DTEND;VALUE=DATE:20250509
DTSTAMP:20260420T051113
CREATED:20250403T134605Z
LAST-MODIFIED:20250403T134605Z
UID:22351-1746662400-1746748799@www.espichegolf.pt
SUMMARY:Singles Stableford Draw
DESCRIPTION:Format: Singles \nTees: R/W/Y \nTee Times: 07h51-08h36
URL:https://www.espichegolf.pt/pt-pt/event/paarls-pairs-2-5-3-2-3-3/
LOCATION:Espiche Golf\, Lagos\, Portugal
CATEGORIES:Competições do Clube
ATTACH;FMTTYPE=image/jpeg:https://www.espichegolf.pt/wp-content/uploads/2025/03/Fixtures-Icon-Website.jpg
ORGANIZER;CN="Espiche Golf":MAILTO:reception@espichegolf.pt
END:VEVENT
BEGIN:VEVENT
DTSTART;VALUE=DATE:20250509
DTEND;VALUE=DATE:20250510
DTSTAMP:20260420T051113
CREATED:20250403T140036Z
LAST-MODIFIED:20250409T102315Z
UID:22360-1746748800-1746835199@www.espichegolf.pt
SUMMARY:Club Championship - Day 1 (Major)
DESCRIPTION:
URL:https://www.espichegolf.pt/pt-pt/event/paarls-pairs-5-2-2/
LOCATION:Espiche Golf\, Lagos\, Portugal
CATEGORIES:Competições do Clube
ATTACH;FMTTYPE=image/jpeg:https://www.espichegolf.pt/wp-content/uploads/2025/03/Fixtures-Icon-Website.jpg
ORGANIZER;CN="Espiche Golf":MAILTO:reception@espichegolf.pt
END:VEVENT
BEGIN:VEVENT
DTSTART;VALUE=DATE:20250510
DTEND;VALUE=DATE:20250511
DTSTAMP:20260420T051113
CREATED:20250403T140226Z
LAST-MODIFIED:20250403T140226Z
UID:22359-1746835200-1746921599@www.espichegolf.pt
SUMMARY:Club Championship - Day 2 (Major)
DESCRIPTION:Format: Singles\nTees: R/Y/W\nTee Times: From 07h51
URL:https://www.espichegolf.pt/pt-pt/event/paarls-pairs-5-2-2-2/
LOCATION:Espiche Golf\, Lagos\, Portugal
CATEGORIES:Competições do Clube
ATTACH;FMTTYPE=image/jpeg:https://www.espichegolf.pt/wp-content/uploads/2025/03/Fixtures-Icon-Website.jpg
END:VEVENT
BEGIN:VEVENT
DTSTART;VALUE=DATE:20250513
DTEND;VALUE=DATE:20250514
DTSTAMP:20260420T051113
CREATED:20250403T135822Z
LAST-MODIFIED:20250403T135822Z
UID:22354-1747094400-1747180799@www.espichegolf.pt
SUMMARY:Yellow Ball Stableford (team of 4) Draw
DESCRIPTION:Format: Team \nTees: R/Y \nTee Times: 07h51-09h39
URL:https://www.espichegolf.pt/pt-pt/event/paarls-pairs-2-5-3-2-3-4/
LOCATION:Espiche Golf\, Lagos\, Portugal
CATEGORIES:Competições do Clube
ATTACH;FMTTYPE=image/jpeg:https://www.espichegolf.pt/wp-content/uploads/2025/03/Fixtures-Icon-Website.jpg
ORGANIZER;CN="Espiche Golf":MAILTO:reception@espichegolf.pt
END:VEVENT
BEGIN:VEVENT
DTSTART;VALUE=DATE:20250515
DTEND;VALUE=DATE:20250516
DTSTAMP:20260420T051113
CREATED:20250422T114624Z
LAST-MODIFIED:20250422T114728Z
UID:22689-1747267200-1747353599@www.espichegolf.pt
SUMMARY:Singles Stableford Draw
DESCRIPTION:Format: Singles \nTees: R/W/Y \nTee Times: 07h51-08h36
URL:https://www.espichegolf.pt/pt-pt/event/paarls-pairs-2-5-3-2-3-3-2/
LOCATION:Espiche Golf\, Lagos\, Portugal
CATEGORIES:Competições do Clube
ATTACH;FMTTYPE=image/jpeg:https://www.espichegolf.pt/wp-content/uploads/2025/03/Fixtures-Icon-Website.jpg
ORGANIZER;CN="Espiche Golf":MAILTO:reception@espichegolf.pt
END:VEVENT
BEGIN:VEVENT
DTSTART;VALUE=DATE:20250517
DTEND;VALUE=DATE:20250518
DTSTAMP:20260420T051113
CREATED:20250422T114926Z
LAST-MODIFIED:20250422T114939Z
UID:22693-1747440000-1747526399@www.espichegolf.pt
SUMMARY:Seattle Shambles (team of 4)
DESCRIPTION:Format: Team\nTees: R/Y\nTee Times: 07h51-09h39
URL:https://www.espichegolf.pt/pt-pt/event/paarls-pairs-5-3/
LOCATION:Espiche Golf\, Lagos\, Portugal
CATEGORIES:Competições do Clube
ATTACH;FMTTYPE=image/jpeg:https://www.espichegolf.pt/wp-content/uploads/2025/03/Fixtures-Icon-Website.jpg
ORGANIZER;CN="Espiche Golf":MAILTO:reception@espichegolf.pt
END:VEVENT
BEGIN:VEVENT
DTSTART;VALUE=DATE:20250520
DTEND;VALUE=DATE:20250521
DTSTAMP:20260420T051113
CREATED:20250422T115135Z
LAST-MODIFIED:20250422T115228Z
UID:22697-1747699200-1747785599@www.espichegolf.pt
SUMMARY:Order of Merit Q Draw
DESCRIPTION:Format: Singles \nTees: R/Y \nTee Times: 07h51-09h39
URL:https://www.espichegolf.pt/pt-pt/event/paarls-pairs-2-5-3-2-3-5/
LOCATION:Espiche Golf\, Lagos\, Portugal
CATEGORIES:Competições do Clube
ATTACH;FMTTYPE=image/jpeg:https://www.espichegolf.pt/wp-content/uploads/2025/03/Fixtures-Icon-Website.jpg
ORGANIZER;CN="Espiche Golf":MAILTO:reception@espichegolf.pt
END:VEVENT
BEGIN:VEVENT
DTSTART;VALUE=DATE:20250522
DTEND;VALUE=DATE:20250523
DTSTAMP:20260420T051113
CREATED:20250430T132708Z
LAST-MODIFIED:20250430T132708Z
UID:22884-1747872000-1747958399@www.espichegolf.pt
SUMMARY:Singles Stableford Draw
DESCRIPTION:Format: Singles \nTees: R/W/Y \nTee Times: 07h51-08h36
URL:https://www.espichegolf.pt/pt-pt/event/paarls-pairs-2-5-3-2-3-3-2-2/
LOCATION:Espiche Golf\, Lagos\, Portugal
CATEGORIES:Competições do Clube
ATTACH;FMTTYPE=image/jpeg:https://www.espichegolf.pt/wp-content/uploads/2025/03/Fixtures-Icon-Website.jpg
ORGANIZER;CN="Espiche Golf":MAILTO:reception@espichegolf.pt
END:VEVENT
BEGIN:VEVENT
DTSTART;VALUE=DATE:20250524
DTEND;VALUE=DATE:20250525
DTSTAMP:20260420T051113
CREATED:20250430T133114Z
LAST-MODIFIED:20250508T142159Z
UID:22887-1748044800-1748131199@www.espichegolf.pt
SUMMARY:Medal hdcp index order draw - Q
DESCRIPTION:Format: Singles\nTees: R/Y/W\nTee Times: 07h51-09h39
URL:https://www.espichegolf.pt/pt-pt/event/paarls-pairs-5-2-3/
LOCATION:Espiche Golf\, Lagos\, Portugal
CATEGORIES:Competições do Clube
ATTACH;FMTTYPE=image/jpeg:https://www.espichegolf.pt/wp-content/uploads/2025/03/Fixtures-Icon-Website.jpg
ORGANIZER;CN="Espiche Golf":MAILTO:reception@espichegolf.pt
END:VEVENT
BEGIN:VEVENT
DTSTART;VALUE=DATE:20250527
DTEND;VALUE=DATE:20250528
DTSTAMP:20260420T051113
CREATED:20250509T090356Z
LAST-MODIFIED:20250513T113609Z
UID:23053-1748304000-1748390399@www.espichegolf.pt
SUMMARY:Srixon Tournament
DESCRIPTION:Register here. \n 
URL:https://www.espichegolf.pt/pt-pt/event/srixontournament/
LOCATION:Espiche Golf\, Lagos\, Portugal
CATEGORIES:Competições do Clube
ATTACH;FMTTYPE=image/jpeg:https://www.espichegolf.pt/wp-content/uploads/2025/05/Untitled-2.jpg
ORGANIZER;CN="Espiche Golf":MAILTO:reception@espichegolf.pt
END:VEVENT
BEGIN:VEVENT
DTSTART;VALUE=DATE:20250529
DTEND;VALUE=DATE:20250530
DTSTAMP:20260420T051113
CREATED:20250430T133232Z
LAST-MODIFIED:20250508T084433Z
UID:22890-1748476800-1748563199@www.espichegolf.pt
SUMMARY:Singles Stableford Draw
DESCRIPTION:Format: Singles \nTees: R/W/Y \nTee Times: 07h51-08h36
URL:https://www.espichegolf.pt/pt-pt/event/paarls-pairs-2-5-3-2-3-3-2-2-2/
LOCATION:Espiche Golf\, Lagos\, Portugal
CATEGORIES:Competições do Clube
ATTACH;FMTTYPE=image/jpeg:https://www.espichegolf.pt/wp-content/uploads/2025/03/Fixtures-Icon-Website.jpg
ORGANIZER;CN="Espiche Golf":MAILTO:reception@espichegolf.pt
END:VEVENT
BEGIN:VEVENT
DTSTART;VALUE=DATE:20250531
DTEND;VALUE=DATE:20250601
DTSTAMP:20260420T051113
CREATED:20250430T133502Z
LAST-MODIFIED:20250430T133502Z
UID:22893-1748649600-1748735999@www.espichegolf.pt
SUMMARY:GV Singles Match play draw
DESCRIPTION:Format: Singles \nTees: R/Y \nTee Times: 07h51-09h39
URL:https://www.espichegolf.pt/pt-pt/event/paarls-pairs-2-5-3-2-3-3-2-2-3/
LOCATION:Espiche Golf\, Lagos\, Portugal
CATEGORIES:Competições do Clube
ATTACH;FMTTYPE=image/jpeg:https://www.espichegolf.pt/wp-content/uploads/2025/03/Fixtures-Icon-Website.jpg
ORGANIZER;CN="Espiche Golf":MAILTO:reception@espichegolf.pt
END:VEVENT
END:VCALENDAR