BEGIN:VCALENDAR
VERSION:2.0
PRODID:-//Espiche Golf - ECPv6.15.20//NONSGML v1.0//EN
CALSCALE:GREGORIAN
METHOD:PUBLISH
X-ORIGINAL-URL:https://www.espichegolf.pt/pt-pt/
X-WR-CALDESC:Eventos para Espiche Golf
REFRESH-INTERVAL;VALUE=DURATION:PT1H
X-Robots-Tag:noindex
X-PUBLISHED-TTL:PT1H
BEGIN:VTIMEZONE
TZID:UTC
BEGIN:STANDARD
TZOFFSETFROM:+0000
TZOFFSETTO:+0000
TZNAME:UTC
DTSTART:20240101T000000
END:STANDARD
END:VTIMEZONE
BEGIN:VEVENT
DTSTART;TZID=UTC:20251126T090000
DTEND;TZID=UTC:20251128T180000
DTSTAMP:20260421T174101
CREATED:20250430T111007Z
LAST-MODIFIED:20250717T081743Z
UID:23059-1764147600-1764352800@www.espichegolf.pt
SUMMARY:West Algarve Golf Trophy
DESCRIPTION:Welcome to another edition of the West Algarve Golf Trophy! From 26th to 28th November 2025\, enjoy three days of golf across three stunning courses and friendly social events where you can share special moments and your passion for the game — all in a unique atmosphere under the Algarve sun. \nRegister here.
URL:https://www.espichegolf.pt/pt-pt/event/west-algarve-golf-trophy/
LOCATION:Espiche Golf\, Lagos\, Portugal
CATEGORIES:Eventos de Golf
ATTACH;FMTTYPE=image/png:https://www.espichegolf.pt/wp-content/uploads/2025/04/West_Algarve_SocialMedia_IG-Post-1-1.png
ORGANIZER;CN="Espiche Golf":MAILTO:reception@espichegolf.pt
END:VEVENT
END:VCALENDAR