BEGIN:VCALENDAR
VERSION:2.0
PRODID:-//Espiche Golf - ECPv6.15.20//NONSGML v1.0//EN
CALSCALE:GREGORIAN
METHOD:PUBLISH
X-WR-CALNAME:Espiche Golf
X-ORIGINAL-URL:https://www.espichegolf.pt/pt-pt/
X-WR-CALDESC:Eventos para Espiche Golf
REFRESH-INTERVAL;VALUE=DURATION:PT1H
X-Robots-Tag:noindex
X-PUBLISHED-TTL:PT1H
BEGIN:VTIMEZONE
TZID:UTC
BEGIN:STANDARD
TZOFFSETFROM:+0000
TZOFFSETTO:+0000
TZNAME:UTC
DTSTART:20240101T000000
END:STANDARD
END:VTIMEZONE
BEGIN:VEVENT
DTSTART;VALUE=DATE:20250711
DTEND;VALUE=DATE:20250712
DTSTAMP:20260422T003126
CREATED:20250627T140708Z
LAST-MODIFIED:20250627T143539Z
UID:25595-1752192000-1752278399@www.espichegolf.pt
SUMMARY:Social Nine Holes and BBQ
DESCRIPTION:We are excited to invite you to our upcoming Social 9 Holes & BBQ event on Friday\, 11th July 2025 – an afternoon of fun golf\, great food and live music! \nFor any questions\, feel free to contact: \n📧 reception@espichegolf.pt or pbinnie@espichegolf.pt \nWe look forward to a fantastic day with you! \nRegister here. \n 
URL:https://www.espichegolf.pt/pt-pt/event/west-algarve-golf-trophy-2/
LOCATION:Espiche Golf\, Lagos\, Portugal
CATEGORIES:Eventos de Golf
ATTACH;FMTTYPE=image/png:https://www.espichegolf.pt/wp-content/uploads/2025/06/Untitled-3.png
ORGANIZER;CN="Espiche Golf":MAILTO:reception@espichegolf.pt
END:VEVENT
END:VCALENDAR