BEGIN:VCALENDAR
VERSION:2.0
PRODID:-//Espiche Golf - ECPv6.15.20//NONSGML v1.0//EN
CALSCALE:GREGORIAN
METHOD:PUBLISH
X-ORIGINAL-URL:https://www.espichegolf.pt/en/
X-WR-CALDESC:Events for Espiche Golf
REFRESH-INTERVAL;VALUE=DURATION:PT1H
X-Robots-Tag:noindex
X-PUBLISHED-TTL:PT1H
BEGIN:VTIMEZONE
TZID:UTC
BEGIN:STANDARD
TZOFFSETFROM:+0000
TZOFFSETTO:+0000
TZNAME:UTC
DTSTART:20250101T000000
END:STANDARD
END:VTIMEZONE
BEGIN:VEVENT
DTSTART;VALUE=DATE:20260113
DTEND;VALUE=DATE:20260114
DTSTAMP:20260419T181311
CREATED:20251216T145808Z
LAST-MODIFIED:20251216T145928Z
UID:32076-1768262400-1768348799@www.espichegolf.pt
SUMMARY:Captain's Drive In
DESCRIPTION:  \nBooking form >> here
URL:https://www.espichegolf.pt/en/event/captains-day-2/
LOCATION:Espiche Golf\, Lagos\, Portugal
CATEGORIES:Club Competitions,Golf Events
ATTACH;FMTTYPE=image/jpeg:https://www.espichegolf.pt/wp-content/uploads/2025/03/Fixtures-Icon-Website.jpg
ORGANIZER;CN="Espiche Golf":MAILTO:reception@espichegolf.pt
END:VEVENT
END:VCALENDAR