BEGIN:VCALENDAR
VERSION:2.0
PRODID:-//Espiche Golf - ECPv6.15.20//NONSGML v1.0//EN
CALSCALE:GREGORIAN
METHOD:PUBLISH
X-WR-CALNAME:Espiche Golf
X-ORIGINAL-URL:https://www.espichegolf.pt/en/
X-WR-CALDESC:Events for Espiche Golf
REFRESH-INTERVAL;VALUE=DURATION:PT1H
X-Robots-Tag:noindex
X-PUBLISHED-TTL:PT1H
BEGIN:VTIMEZONE
TZID:UTC
BEGIN:STANDARD
TZOFFSETFROM:+0000
TZOFFSETTO:+0000
TZNAME:UTC
DTSTART:20240101T000000
END:STANDARD
END:VTIMEZONE
BEGIN:VEVENT
DTSTART;VALUE=DATE:20250823
DTEND;VALUE=DATE:20250824
DTSTAMP:20260420T021534
CREATED:20250520T103357Z
LAST-MODIFIED:20250520T103624Z
UID:23562-1755907200-1755993599@www.espichegolf.pt
SUMMARY:Texas Scramble with a twist - Draw
DESCRIPTION:Format: Team\nTees: R/Y\nTee Times: 07h51-09h39
URL:https://www.espichegolf.pt/en/event/paarls-pairs-4-2-2/
LOCATION:Espiche Golf\, Lagos\, Portugal
CATEGORIES:Club Competitions
ATTACH;FMTTYPE=image/jpeg:https://www.espichegolf.pt/wp-content/uploads/2025/01/Fixtures-Icon-Website-1.jpg
END:VEVENT
END:VCALENDAR