BEGIN:VCALENDAR
VERSION:2.0
PRODID:-//Espiche Golf - ECPv6.15.20//NONSGML v1.0//EN
CALSCALE:GREGORIAN
METHOD:PUBLISH
X-WR-CALNAME:Espiche Golf
X-ORIGINAL-URL:https://www.espichegolf.pt/en/
X-WR-CALDESC:Events for Espiche Golf
REFRESH-INTERVAL;VALUE=DURATION:PT1H
X-Robots-Tag:noindex
X-PUBLISHED-TTL:PT1H
BEGIN:VTIMEZONE
TZID:UTC
BEGIN:STANDARD
TZOFFSETFROM:+0000
TZOFFSETTO:+0000
TZNAME:UTC
DTSTART:20240101T000000
END:STANDARD
END:VTIMEZONE
BEGIN:VEVENT
DTSTART;VALUE=DATE:20250513
DTEND;VALUE=DATE:20250514
DTSTAMP:20260420T065936
CREATED:20250403T135822Z
LAST-MODIFIED:20250403T135822Z
UID:22352-1747094400-1747180799@www.espichegolf.pt
SUMMARY:Yellow Ball Stableford (team of 4) Draw
DESCRIPTION:Format: Team \nTees: R/Y \nTee Times: 07h51-09h39
URL:https://www.espichegolf.pt/en/event/paarls-pairs-2-5-3-2-3-4/
LOCATION:Espiche Golf\, Lagos\, Portugal
CATEGORIES:Club Competitions
ATTACH;FMTTYPE=image/jpeg:https://www.espichegolf.pt/wp-content/uploads/2025/03/Fixtures-Icon-Website.jpg
ORGANIZER;CN="Espiche Golf":MAILTO:reception@espichegolf.pt
END:VEVENT
END:VCALENDAR