BEGIN:VCALENDAR
VERSION:2.0
PRODID:-//Espiche Golf - ECPv6.15.20//NONSGML v1.0//EN
CALSCALE:GREGORIAN
METHOD:PUBLISH
X-ORIGINAL-URL:https://www.espichegolf.pt/en/
X-WR-CALDESC:Events for Espiche Golf
REFRESH-INTERVAL;VALUE=DURATION:PT1H
X-Robots-Tag:noindex
X-PUBLISHED-TTL:PT1H
BEGIN:VTIMEZONE
TZID:UTC
BEGIN:STANDARD
TZOFFSETFROM:+0000
TZOFFSETTO:+0000
TZNAME:UTC
DTSTART:20240101T000000
END:STANDARD
END:VTIMEZONE
BEGIN:VEVENT
DTSTART;VALUE=DATE:20250325
DTEND;VALUE=DATE:20250326
DTSTAMP:20260420T101051
CREATED:20250319T170735Z
LAST-MODIFIED:20250320T103903Z
UID:21807-1742860800-1742947199@www.espichegolf.pt
SUMMARY:PING Singles Stableford- Q Draw
DESCRIPTION:Click here to see the poster
URL:https://www.espichegolf.pt/en/event/paarls-pairs-2-3/
LOCATION:Espiche Golf\, Lagos\, Portugal
CATEGORIES:Club Competitions
ORGANIZER;CN="Espiche Golf":MAILTO:reception@espichegolf.pt
END:VEVENT
END:VCALENDAR