BEGIN:VCALENDAR
VERSION:2.0
PRODID:-//Espiche Golf - ECPv6.15.20//NONSGML v1.0//EN
CALSCALE:GREGORIAN
METHOD:PUBLISH
X-WR-CALNAME:Espiche Golf
X-ORIGINAL-URL:https://www.espichegolf.pt/en/
X-WR-CALDESC:Events for Espiche Golf
REFRESH-INTERVAL;VALUE=DURATION:PT1H
X-Robots-Tag:noindex
X-PUBLISHED-TTL:PT1H
BEGIN:VTIMEZONE
TZID:UTC
BEGIN:STANDARD
TZOFFSETFROM:+0000
TZOFFSETTO:+0000
TZNAME:UTC
DTSTART:20240101T000000
END:STANDARD
END:VTIMEZONE
BEGIN:VEVENT
DTSTART;VALUE=DATE:20250701
DTEND;VALUE=DATE:20250702
DTSTAMP:20260420T020314
CREATED:20250515T103223Z
LAST-MODIFIED:20250519T152509Z
UID:23338-1751328000-1751414399@www.espichegolf.pt
SUMMARY:Single Stableford (Q) – Course Maintenance
DESCRIPTION:Format: Singles \nTees: R/W/Y \nTee Times: 07h51-09h39
URL:https://www.espichegolf.pt/en/event/paarls-pairs-2-6/
LOCATION:Espiche Golf\, Lagos\, Portugal
CATEGORIES:Club Competitions
ATTACH;FMTTYPE=image/jpeg:https://www.espichegolf.pt/wp-content/uploads/2025/03/Fixtures-Icon-Website.jpg
END:VEVENT
BEGIN:VEVENT
DTSTART;VALUE=DATE:20250703
DTEND;VALUE=DATE:20250704
DTSTAMP:20260420T020314
CREATED:20250515T105057Z
LAST-MODIFIED:20250515T105057Z
UID:23344-1751500800-1751587199@www.espichegolf.pt
SUMMARY:Singles Stableford Draw – Course Maintenance (same 9 twice)
DESCRIPTION:Format: Singles \nTees: R/W/Y \nTee Times: 07h51-08h27
URL:https://www.espichegolf.pt/en/event/paarls-pairs-2-5-3-2-3-3-2-2-4-2-3-3/
LOCATION:Espiche Golf\, Lagos\, Portugal
CATEGORIES:Club Competitions
ATTACH;FMTTYPE=image/jpeg:https://www.espichegolf.pt/wp-content/uploads/2025/03/Fixtures-Icon-Website.jpg
END:VEVENT
BEGIN:VEVENT
DTSTART;VALUE=DATE:20250705
DTEND;VALUE=DATE:20250706
DTSTAMP:20260420T020314
CREATED:20250515T105624Z
LAST-MODIFIED:20250515T105624Z
UID:23348-1751673600-1751759999@www.espichegolf.pt
SUMMARY:Seattle Shambles (team of 2)
DESCRIPTION:Format: Pairs\nTees: R/Y\nTee Times: 07h51-09h39
URL:https://www.espichegolf.pt/en/event/paarls-pairs-5-4-2-2/
LOCATION:Espiche Golf\, Lagos\, Portugal
CATEGORIES:Club Competitions
ATTACH;FMTTYPE=image/jpeg:https://www.espichegolf.pt/wp-content/uploads/2025/03/Fixtures-Icon-Website.jpg
END:VEVENT
BEGIN:VEVENT
DTSTART;VALUE=DATE:20250708
DTEND;VALUE=DATE:20250709
DTSTAMP:20260420T020314
CREATED:20250515T105919Z
LAST-MODIFIED:20250515T105919Z
UID:23352-1751932800-1752019199@www.espichegolf.pt
SUMMARY:Florida Scramble (team of 4 ) Draw
DESCRIPTION:Format: Pairs \nTees: R/Y \nTee Times: 07h51-09h39
URL:https://www.espichegolf.pt/en/event/paarls-pairs-2-5-3-2-3-3-2-2-4-2-3-2-2/
LOCATION:Espiche Golf\, Lagos\, Portugal
CATEGORIES:Club Competitions
ATTACH;FMTTYPE=image/jpeg:https://www.espichegolf.pt/wp-content/uploads/2025/03/Fixtures-Icon-Website.jpg
END:VEVENT
BEGIN:VEVENT
DTSTART;VALUE=DATE:20250710
DTEND;VALUE=DATE:20250711
DTSTAMP:20260420T020314
CREATED:20250515T110241Z
LAST-MODIFIED:20250515T110241Z
UID:23355-1752105600-1752191999@www.espichegolf.pt
SUMMARY:Singles Stableford Draw
DESCRIPTION:Format: Singles \nTees: R/W/Y \nTee Times: 07h51-08h27
URL:https://www.espichegolf.pt/en/event/paarls-pairs-2-5-3-2-3-3-2-2-4-2-4/
LOCATION:Espiche Golf\, Lagos\, Portugal
CATEGORIES:Club Competitions
ATTACH;FMTTYPE=image/jpeg:https://www.espichegolf.pt/wp-content/uploads/2025/03/Fixtures-Icon-Website.jpg
END:VEVENT
BEGIN:VEVENT
DTSTART;VALUE=DATE:20250712
DTEND;VALUE=DATE:20250713
DTSTAMP:20260420T020314
CREATED:20250518T102116Z
LAST-MODIFIED:20250518T102116Z
UID:23367-1752278400-1752364799@www.espichegolf.pt
SUMMARY:High road and low road ( Pairs)
DESCRIPTION:Format: Pairs\nTees: R/Y\nTee Times: 07h51-09h39
URL:https://www.espichegolf.pt/en/event/paarls-pairs-5-4-2-3/
LOCATION:Espiche Golf\, Lagos\, Portugal
CATEGORIES:Club Competitions
ATTACH;FMTTYPE=image/jpeg:https://www.espichegolf.pt/wp-content/uploads/2025/03/Fixtures-Icon-Website.jpg
END:VEVENT
BEGIN:VEVENT
DTSTART;VALUE=DATE:20250715
DTEND;VALUE=DATE:20250716
DTSTAMP:20260420T020314
CREATED:20250518T102352Z
LAST-MODIFIED:20250518T102352Z
UID:23468-1752537600-1752623999@www.espichegolf.pt
SUMMARY:GV Singles Match play Draw
DESCRIPTION:Format: Singles \nTees: R/Y \nTee Times: 07h51-09h39
URL:https://www.espichegolf.pt/en/event/paarls-pairs-2-5-3-2-3-3-2-2-4-2-3-4/
LOCATION:Espiche Golf\, Lagos\, Portugal
CATEGORIES:Club Competitions
ATTACH;FMTTYPE=image/jpeg:https://www.espichegolf.pt/wp-content/uploads/2025/03/Fixtures-Icon-Website.jpg
END:VEVENT
BEGIN:VEVENT
DTSTART;VALUE=DATE:20250717
DTEND;VALUE=DATE:20250718
DTSTAMP:20260420T020314
CREATED:20250518T102743Z
LAST-MODIFIED:20250518T102743Z
UID:23472-1752710400-1752796799@www.espichegolf.pt
SUMMARY:Singles Stableford Draw
DESCRIPTION:Format: Singles \nTees: R/W/Y \nTee Times: 07h51-08h27
URL:https://www.espichegolf.pt/en/event/paarls-pairs-2-5-3-2-3-3-2-2-4-2-4-2/
LOCATION:Espiche Golf\, Lagos\, Portugal
CATEGORIES:Club Competitions
ATTACH;FMTTYPE=image/jpeg:https://www.espichegolf.pt/wp-content/uploads/2025/03/Fixtures-Icon-Website.jpg
END:VEVENT
BEGIN:VEVENT
DTSTART;VALUE=DATE:20250719
DTEND;VALUE=DATE:20250720
DTSTAMP:20260420T020314
CREATED:20250518T103049Z
LAST-MODIFIED:20250518T103049Z
UID:23476-1752883200-1752969599@www.espichegolf.pt
SUMMARY:Medal hdcp index order – Q
DESCRIPTION:Format: Singles \nTees: R/W/Y \nTee Times: 07h51-09h39
URL:https://www.espichegolf.pt/en/event/paarls-pairs-2-5-4-2-2-2/
LOCATION:Espiche Golf\, Lagos\, Portugal
CATEGORIES:Club Competitions
ATTACH;FMTTYPE=image/jpeg:https://www.espichegolf.pt/wp-content/uploads/2025/03/Fixtures-Icon-Website.jpg
END:VEVENT
BEGIN:VEVENT
DTSTART;VALUE=DATE:20250722
DTEND;VALUE=DATE:20250723
DTSTAMP:20260420T020314
CREATED:20250518T103934Z
LAST-MODIFIED:20250718T102709Z
UID:23479-1753142400-1753228799@www.espichegolf.pt
SUMMARY:Invisible Pro (Team of 4)
DESCRIPTION:Format: Team \nTees: R/Y \nTee Times: 07h51-09h39
URL:https://www.espichegolf.pt/en/event/invisible-pro-team-of-4/
LOCATION:Espiche Golf\, Lagos\, Portugal
CATEGORIES:Club Competitions
ATTACH;FMTTYPE=image/jpeg:https://www.espichegolf.pt/wp-content/uploads/2025/03/Fixtures-Icon-Website.jpg
END:VEVENT
BEGIN:VEVENT
DTSTART;VALUE=DATE:20250724
DTEND;VALUE=DATE:20250725
DTSTAMP:20260420T020314
CREATED:20250518T104406Z
LAST-MODIFIED:20250518T104406Z
UID:23482-1753315200-1753401599@www.espichegolf.pt
SUMMARY:Singles Stableford Draw
DESCRIPTION:Format: Singles \nTees: R/W/Y \nTee Times: 07h51-08h27
URL:https://www.espichegolf.pt/en/event/paarls-pairs-2-5-3-2-3-3-2-2-4-2-4-2-2/
LOCATION:Espiche Golf\, Lagos\, Portugal
CATEGORIES:Club Competitions
ATTACH;FMTTYPE=image/jpeg:https://www.espichegolf.pt/wp-content/uploads/2025/03/Fixtures-Icon-Website.jpg
END:VEVENT
BEGIN:VEVENT
DTSTART;VALUE=DATE:20250726
DTEND;VALUE=DATE:20250727
DTSTAMP:20260420T020314
CREATED:20250518T105152Z
LAST-MODIFIED:20250518T105152Z
UID:23485-1753488000-1753574399@www.espichegolf.pt
SUMMARY:Paarl Pairs
DESCRIPTION:Format: Pairs\nTees: R/Y\nTee Times: 07h51-09h39
URL:https://www.espichegolf.pt/en/event/paarls-pairs-5-4-3/
LOCATION:Espiche Golf\, Lagos\, Portugal
CATEGORIES:Club Competitions
ATTACH;FMTTYPE=image/jpeg:https://www.espichegolf.pt/wp-content/uploads/2025/03/Fixtures-Icon-Website.jpg
END:VEVENT
BEGIN:VEVENT
DTSTART;VALUE=DATE:20250729
DTEND;VALUE=DATE:20250730
DTSTAMP:20260420T020314
CREATED:20250518T105326Z
LAST-MODIFIED:20250518T105326Z
UID:23488-1753747200-1753833599@www.espichegolf.pt
SUMMARY:Order of Merit Q Draw
DESCRIPTION:Format: Singles \nTees: R/Y \nTee Times: 07h51-09h39
URL:https://www.espichegolf.pt/en/event/paarls-pairs-2-5-3-2-3-5-2-2/
LOCATION:Espiche Golf\, Lagos\, Portugal
CATEGORIES:Club Competitions
ATTACH;FMTTYPE=image/jpeg:https://www.espichegolf.pt/wp-content/uploads/2025/03/Fixtures-Icon-Website.jpg
END:VEVENT
BEGIN:VEVENT
DTSTART;VALUE=DATE:20250731
DTEND;VALUE=DATE:20250801
DTSTAMP:20260420T020314
CREATED:20250518T105427Z
LAST-MODIFIED:20250518T105427Z
UID:23491-1753920000-1754006399@www.espichegolf.pt
SUMMARY:Singles Stableford Draw
DESCRIPTION:Format: Singles \nTees: R/W/Y \nTee Times: 07h51-08h27
URL:https://www.espichegolf.pt/en/event/paarls-pairs-2-5-3-2-3-3-2-2-4-2-4-2-2-2/
LOCATION:Espiche Golf\, Lagos\, Portugal
CATEGORIES:Club Competitions
ATTACH;FMTTYPE=image/jpeg:https://www.espichegolf.pt/wp-content/uploads/2025/03/Fixtures-Icon-Website.jpg
END:VEVENT
END:VCALENDAR