BEGIN:VCALENDAR
VERSION:2.0
PRODID:-//Espiche Golf - ECPv6.15.20//NONSGML v1.0//EN
CALSCALE:GREGORIAN
METHOD:PUBLISH
X-ORIGINAL-URL:https://www.espichegolf.pt/en/
X-WR-CALDESC:Events for Espiche Golf
REFRESH-INTERVAL;VALUE=DURATION:PT1H
X-Robots-Tag:noindex
X-PUBLISHED-TTL:PT1H
BEGIN:VTIMEZONE
TZID:UTC
BEGIN:STANDARD
TZOFFSETFROM:+0000
TZOFFSETTO:+0000
TZNAME:UTC
DTSTART:20240101T000000
END:STANDARD
END:VTIMEZONE
BEGIN:VEVENT
DTSTART;VALUE=DATE:20250603
DTEND;VALUE=DATE:20250604
DTSTAMP:20260420T034219
CREATED:20250430T133642Z
LAST-MODIFIED:20250430T133642Z
UID:22894-1748908800-1748995199@www.espichegolf.pt
SUMMARY:Dubai Stableford (team of 4)
DESCRIPTION:Format: Team\nTees: R/Y\nTee Times: 07h51-09h39
URL:https://www.espichegolf.pt/en/event/paarls-pairs-5-3-2/
LOCATION:Espiche Golf\, Lagos\, Portugal
CATEGORIES:Club Competitions
ATTACH;FMTTYPE=image/jpeg:https://www.espichegolf.pt/wp-content/uploads/2025/03/Fixtures-Icon-Website.jpg
ORGANIZER;CN="Espiche Golf":MAILTO:reception@espichegolf.pt
END:VEVENT
BEGIN:VEVENT
DTSTART;VALUE=DATE:20250605
DTEND;VALUE=DATE:20250606
DTSTAMP:20260420T034219
CREATED:20250430T133832Z
LAST-MODIFIED:20250430T133832Z
UID:22897-1749081600-1749167999@www.espichegolf.pt
SUMMARY:Singles Stableford (Q) Draw
DESCRIPTION:Format: Singles \nTees: R/W/Y \nTee Times: 07h51-08h27
URL:https://www.espichegolf.pt/en/event/paarls-pairs-2-5-4-2/
LOCATION:Espiche Golf\, Lagos\, Portugal
CATEGORIES:Club Competitions
ATTACH;FMTTYPE=image/jpeg:https://www.espichegolf.pt/wp-content/uploads/2025/03/Fixtures-Icon-Website.jpg
ORGANIZER;CN="Espiche Golf":MAILTO:reception@espichegolf.pt
END:VEVENT
BEGIN:VEVENT
DTSTART;VALUE=DATE:20250610
DTEND;VALUE=DATE:20250611
DTSTAMP:20260420T034219
CREATED:20250508T142600Z
LAST-MODIFIED:20250508T142600Z
UID:23026-1749513600-1749599999@www.espichegolf.pt
SUMMARY:Medal hcp index order Draw - Q
DESCRIPTION:Format: Singles \nTees: R/W/Y \nTee Times: 07h51-09h39
URL:https://www.espichegolf.pt/en/event/paarls-pairs-2-5-4-2-2/
LOCATION:Espiche Golf\, Lagos\, Portugal
CATEGORIES:Club Competitions
ATTACH;FMTTYPE=image/jpeg:https://www.espichegolf.pt/wp-content/uploads/2025/03/Fixtures-Icon-Website.jpg
END:VEVENT
BEGIN:VEVENT
DTSTART;VALUE=DATE:20250612
DTEND;VALUE=DATE:20250613
DTSTAMP:20260420T034219
CREATED:20250514T093659Z
LAST-MODIFIED:20250514T094609Z
UID:23194-1749686400-1749772799@www.espichegolf.pt
SUMMARY:Singles Stableford Draw
DESCRIPTION:Format: Singles \nTees: R/W/Y \nTee Times: 07h51-08h27
URL:https://www.espichegolf.pt/en/event/paarls-pairs-2-5-3-2-3-3-2-2-4/
LOCATION:Espiche Golf\, Lagos\, Portugal
CATEGORIES:Club Competitions
ATTACH;FMTTYPE=image/jpeg:https://www.espichegolf.pt/wp-content/uploads/2025/03/Fixtures-Icon-Website.jpg
END:VEVENT
BEGIN:VEVENT
DTSTART;VALUE=DATE:20250614
DTEND;VALUE=DATE:20250615
DTSTAMP:20260420T034219
CREATED:20250514T095006Z
LAST-MODIFIED:20250514T095042Z
UID:23207-1749859200-1749945599@www.espichegolf.pt
SUMMARY:Order of Merit Q Draw
DESCRIPTION:Format: Singles \nTees: R/Y \nTee Times: 07h51-09h39
URL:https://www.espichegolf.pt/en/event/paarls-pairs-2-5-3-2-3-5-2/
LOCATION:Espiche Golf\, Lagos\, Portugal
CATEGORIES:Club Competitions
ATTACH;FMTTYPE=image/jpeg:https://www.espichegolf.pt/wp-content/uploads/2025/03/Fixtures-Icon-Website.jpg
END:VEVENT
BEGIN:VEVENT
DTSTART;VALUE=DATE:20250617
DTEND;VALUE=DATE:20250618
DTSTAMP:20260420T034219
CREATED:20250514T100346Z
LAST-MODIFIED:20250514T101152Z
UID:23212-1750118400-1750204799@www.espichegolf.pt
SUMMARY:Pairs Better Ball
DESCRIPTION:Format: Pairs\nTees: R/Y\nTee Times: 07h51-09h39
URL:https://www.espichegolf.pt/en/event/paarls-pairs-5-4/
LOCATION:Espiche Golf\, Lagos\, Portugal
CATEGORIES:Club Competitions
ATTACH;FMTTYPE=image/jpeg:https://www.espichegolf.pt/wp-content/uploads/2025/03/Fixtures-Icon-Website.jpg
END:VEVENT
BEGIN:VEVENT
DTSTART;VALUE=DATE:20250619
DTEND;VALUE=DATE:20250620
DTSTAMP:20260420T034219
CREATED:20250514T101332Z
LAST-MODIFIED:20250514T101332Z
UID:23220-1750291200-1750377599@www.espichegolf.pt
SUMMARY:Singles Stableford Draw
DESCRIPTION:Format: Singles \nTees: R/W/Y \nTee Times: 07h51-08h27
URL:https://www.espichegolf.pt/en/event/paarls-pairs-2-5-3-2-3-3-2-2-4-2/
LOCATION:Espiche Golf\, Lagos\, Portugal
CATEGORIES:Club Competitions
ATTACH;FMTTYPE=image/jpeg:https://www.espichegolf.pt/wp-content/uploads/2025/03/Fixtures-Icon-Website.jpg
END:VEVENT
BEGIN:VEVENT
DTSTART;VALUE=DATE:20250621
DTEND;VALUE=DATE:20250622
DTSTAMP:20260420T034219
CREATED:20250514T101714Z
LAST-MODIFIED:20250530T100315Z
UID:23224-1750464000-1750550399@www.espichegolf.pt
SUMMARY:Celebration Trophy (Pairs)
DESCRIPTION:Click to view the Booking form
URL:https://www.espichegolf.pt/en/event/paarls-pairs-5-4-2/
LOCATION:Espiche Golf\, Lagos\, Portugal
CATEGORIES:Club Competitions
ATTACH;FMTTYPE=image/png:https://www.espichegolf.pt/wp-content/uploads/2025/05/Untitled-1.png
END:VEVENT
BEGIN:VEVENT
DTSTART;VALUE=DATE:20250624
DTEND;VALUE=DATE:20250625
DTSTAMP:20260420T034219
CREATED:20250514T102710Z
LAST-MODIFIED:20250514T102710Z
UID:23233-1750723200-1750809599@www.espichegolf.pt
SUMMARY:GV Singles match play (Draw)
DESCRIPTION:Format: Singles \nTees: R/Y \nTee Times: 07h51-09h39
URL:https://www.espichegolf.pt/en/event/paarls-pairs-2-5-3-2-3-3-2-2-4-2-2/
LOCATION:Espiche Golf\, Lagos\, Portugal
CATEGORIES:Club Competitions
ATTACH;FMTTYPE=image/jpeg:https://www.espichegolf.pt/wp-content/uploads/2025/03/Fixtures-Icon-Website.jpg
END:VEVENT
BEGIN:VEVENT
DTSTART;VALUE=DATE:20250626
DTEND;VALUE=DATE:20250627
DTSTAMP:20260420T034219
CREATED:20250514T102835Z
LAST-MODIFIED:20250514T102835Z
UID:23237-1750896000-1750982399@www.espichegolf.pt
SUMMARY:Singles Stableford Draw
DESCRIPTION:Format: Singles \nTees: R/W/Y \nTee Times: 07h51-08h27
URL:https://www.espichegolf.pt/en/event/paarls-pairs-2-5-3-2-3-3-2-2-4-2-3/
LOCATION:Espiche Golf\, Lagos\, Portugal
CATEGORIES:Club Competitions
ATTACH;FMTTYPE=image/jpeg:https://www.espichegolf.pt/wp-content/uploads/2025/03/Fixtures-Icon-Website.jpg
END:VEVENT
BEGIN:VEVENT
DTSTART;VALUE=DATE:20250628
DTEND;VALUE=DATE:20250629
DTSTAMP:20260420T034219
CREATED:20250514T104155Z
LAST-MODIFIED:20250514T104155Z
UID:23241-1751068800-1751155199@www.espichegolf.pt
SUMMARY:AM AM with a wink (team of 4) Draw
DESCRIPTION:Format: Pairs \nTees: R/Y \nTee Times: 07h51-09h39
URL:https://www.espichegolf.pt/en/event/paarls-pairs-2-5-3-2-3-3-2-2-4-2-3-2/
LOCATION:Espiche Golf\, Lagos\, Portugal
CATEGORIES:Club Competitions
ATTACH;FMTTYPE=image/jpeg:https://www.espichegolf.pt/wp-content/uploads/2025/03/Fixtures-Icon-Website.jpg
END:VEVENT
END:VCALENDAR